BEGIN:VCALENDAR
VERSION:2.0
PRODID:-//Hannover Leuchtet - ECPv4.8.2//NONSGML v1.0//EN
CALSCALE:GREGORIAN
METHOD:PUBLISH
X-WR-CALNAME:Hannover Leuchtet
X-ORIGINAL-URL:https://www.hannover-leuchtet.eu
X-WR-CALDESC:Veranstaltungen im Hannover Leuchtet
BEGIN:VEVENT
DTSTART;TZID=Europe/Berlin:20191109T180000
DTEND;TZID=Europe/Berlin:20191109T230000
DTSTAMP:20260425T120917
CREATED:20190117T193826Z
LAST-MODIFIED:20191007T081819Z
UID:2426-1573322400-1573340400@www.hannover-leuchtet.eu
SUMMARY:Köche Leuchten
DESCRIPTION:\n				\n					\n					\n									\n										\n									\n								\n									\n										\n									\n								\n									\n										\n									\n								\n									\n										\n									\n								\n				\n			Es erwartet Sie ein 6-Gänge Gourmetmenü\, das von Hannovers Spitzenköchen zubereitet wird. Ein Highlight der Kulinarik während dem Lichtkunstfestival. Neben dem speziellen Menü gibt es auch Fingerfood\, sowie eine ausgewählte Weinbegleitung. \n
URL:https://www.hannover-leuchtet.eu/kalender/koeche-leuchten/
CATEGORIES:Hannover Leuchtet
ATTACH;FMTTYPE=image/jpeg:https://www.hannover-leuchtet.eu/wp-content/uploads/2019/01/hannover_leuchtet_veranstaltung_koeche_leuchten.jpg
END:VEVENT
END:VCALENDAR